BEGIN:VCALENDAR
VERSION:2.0
PRODID:-//Groundwork Denver - ECPv6.15.20//NONSGML v1.0//EN
CALSCALE:GREGORIAN
METHOD:PUBLISH
X-WR-CALNAME:Groundwork Denver
X-ORIGINAL-URL:https://groundworkcolorado.org
X-WR-CALDESC:Events for Groundwork Denver
REFRESH-INTERVAL;VALUE=DURATION:PT1H
X-Robots-Tag:noindex
X-PUBLISHED-TTL:PT1H
BEGIN:VTIMEZONE
TZID:America/Denver
BEGIN:DAYLIGHT
TZOFFSETFROM:-0700
TZOFFSETTO:-0600
TZNAME:MDT
DTSTART:20140309T090000
END:DAYLIGHT
BEGIN:STANDARD
TZOFFSETFROM:-0600
TZOFFSETTO:-0700
TZNAME:MST
DTSTART:20141102T080000
END:STANDARD
BEGIN:DAYLIGHT
TZOFFSETFROM:-0700
TZOFFSETTO:-0600
TZNAME:MDT
DTSTART:20150308T090000
END:DAYLIGHT
BEGIN:STANDARD
TZOFFSETFROM:-0600
TZOFFSETTO:-0700
TZNAME:MST
DTSTART:20151101T080000
END:STANDARD
BEGIN:DAYLIGHT
TZOFFSETFROM:-0700
TZOFFSETTO:-0600
TZNAME:MDT
DTSTART:20160313T090000
END:DAYLIGHT
BEGIN:STANDARD
TZOFFSETFROM:-0600
TZOFFSETTO:-0700
TZNAME:MST
DTSTART:20161106T080000
END:STANDARD
END:VTIMEZONE
BEGIN:VEVENT
DTSTART;TZID=America/Denver:20150403T180000
DTEND;TZID=America/Denver:20150403T210000
DTSTAMP:20260422T063701
CREATED:20150408T235657Z
LAST-MODIFIED:20150408T235904Z
UID:10001072-1428084000-1428094800@groundworkcolorado.org
SUMMARY:Denver Hip-Hop Green Dinner
DESCRIPTION:A SHARE mini-grant sponsored event. The Denver Hip-Hop Green Dinner is bringing two worlds closer together\, Hip-Hop music and culture and HEAL (healthy eating active living). \n  \nRedline Denver \n6:00pm to 9:00pm
URL:https://groundworkcolorado.org/event/denver-hip-hop-green-dinner/
LOCATION:Redline Denver\, 2350 Arapahoe St\, Denver\, 80205\, United States
GEO:39.7548193;-104.9862218
X-APPLE-STRUCTURED-LOCATION;VALUE=URI;X-ADDRESS=Redline Denver 2350 Arapahoe St Denver 80205 United States;X-APPLE-RADIUS=500;X-TITLE=2350 Arapahoe St:geo:-104.9862218,39.7548193
END:VEVENT
END:VCALENDAR