BEGIN:VCALENDAR
VERSION:2.0
PRODID:-//Groundwork Denver - ECPv6.15.20//NONSGML v1.0//EN
CALSCALE:GREGORIAN
METHOD:PUBLISH
X-ORIGINAL-URL:https://groundworkcolorado.org
X-WR-CALDESC:Events for Groundwork Denver
REFRESH-INTERVAL;VALUE=DURATION:PT1H
X-Robots-Tag:noindex
X-PUBLISHED-TTL:PT1H
BEGIN:VTIMEZONE
TZID:America/Denver
BEGIN:DAYLIGHT
TZOFFSETFROM:-0700
TZOFFSETTO:-0600
TZNAME:MDT
DTSTART:20250309T090000
END:DAYLIGHT
BEGIN:STANDARD
TZOFFSETFROM:-0600
TZOFFSETTO:-0700
TZNAME:MST
DTSTART:20251102T080000
END:STANDARD
BEGIN:DAYLIGHT
TZOFFSETFROM:-0700
TZOFFSETTO:-0600
TZNAME:MDT
DTSTART:20260308T090000
END:DAYLIGHT
BEGIN:STANDARD
TZOFFSETFROM:-0600
TZOFFSETTO:-0700
TZNAME:MST
DTSTART:20261101T080000
END:STANDARD
BEGIN:DAYLIGHT
TZOFFSETFROM:-0700
TZOFFSETTO:-0600
TZNAME:MDT
DTSTART:20270314T090000
END:DAYLIGHT
BEGIN:STANDARD
TZOFFSETFROM:-0600
TZOFFSETTO:-0700
TZNAME:MST
DTSTART:20271107T080000
END:STANDARD
END:VTIMEZONE
BEGIN:VEVENT
DTSTART;TZID=America/Denver:20260516T080000
DTEND;TZID=America/Denver:20260516T150000
DTSTAMP:20260422T062404
CREATED:20260415T175507Z
LAST-MODIFIED:20260415T175507Z
UID:10001697-1778918400-1778943600@groundworkcolorado.org
SUMMARY:Master Gardener Plant Sale
DESCRIPTION:This popular annual fundraising event is open to the community and features heirloom and modern tomatoes\, New Mexico chiles\, annuals\, perennials\, and more. \nWhen? \n\nMay 16\, 2026: 8 a.m. to 3 p.m.\nMay 17\, 2026: 10 a.m. until sold out\n\nGroundwork Denver will be tabling on Saturday May 16th to share resources around water and energy conservation! \nLearn more here (no registration required). \n 
URL:https://groundworkcolorado.org/event/master-gardener-plant-sale/
LOCATION:Harvard Gulch Park\, 888 E. Iliff Ave.\, Denver\, CO\, 80210\, United States
END:VEVENT
END:VCALENDAR