BEGIN:VCALENDAR
VERSION:2.0
PRODID:-//Groundwork Denver - ECPv6.15.20//NONSGML v1.0//EN
CALSCALE:GREGORIAN
METHOD:PUBLISH
X-WR-CALNAME:Groundwork Denver
X-ORIGINAL-URL:https://groundworkcolorado.org
X-WR-CALDESC:Events for Groundwork Denver
REFRESH-INTERVAL;VALUE=DURATION:PT1H
X-Robots-Tag:noindex
X-PUBLISHED-TTL:PT1H
BEGIN:VTIMEZONE
TZID:America/Denver
BEGIN:DAYLIGHT
TZOFFSETFROM:-0700
TZOFFSETTO:-0600
TZNAME:MDT
DTSTART:20140309T090000
END:DAYLIGHT
BEGIN:STANDARD
TZOFFSETFROM:-0600
TZOFFSETTO:-0700
TZNAME:MST
DTSTART:20141102T080000
END:STANDARD
BEGIN:DAYLIGHT
TZOFFSETFROM:-0700
TZOFFSETTO:-0600
TZNAME:MDT
DTSTART:20150308T090000
END:DAYLIGHT
BEGIN:STANDARD
TZOFFSETFROM:-0600
TZOFFSETTO:-0700
TZNAME:MST
DTSTART:20151101T080000
END:STANDARD
BEGIN:DAYLIGHT
TZOFFSETFROM:-0700
TZOFFSETTO:-0600
TZNAME:MDT
DTSTART:20160313T090000
END:DAYLIGHT
BEGIN:STANDARD
TZOFFSETFROM:-0600
TZOFFSETTO:-0700
TZNAME:MST
DTSTART:20161106T080000
END:STANDARD
END:VTIMEZONE
BEGIN:VEVENT
DTSTART;TZID=America/Denver:20150119T130000
DTEND;TZID=America/Denver:20150119T163000
DTSTAMP:20260424T043800
CREATED:20150106T062551Z
LAST-MODIFIED:20150106T062551Z
UID:10001064-1421672400-1421685000@groundworkcolorado.org
SUMMARY:2015 MLK Day of Service Neighborhood Energy Outreach
DESCRIPTION:When: \n1:00 PM to 4:30 PM \nJanuary 19\, 2015 \nWhere:  \nMontbello Neighborhood  **Our specific meeting location is currently being determined but an update will be sent out once this detail has been confirmed**\n\n\n\n  \n\n\n\nWe will be going door to door on MLK Day\, Monday\, January 19th in the Montbello Neighborhood of Denver to help people reduce their energy use and their energy bills. \n  \nFor those who haven’t volunteered with Groundwork on MLK Day\, here is what you’ll do: you and a partner will knock on about 40 doors assigned to you. At each home\, you’ll offer to change out the front porch light bulb to a compact fluorescent bulb\, provide information about reducing energy use\, and sign people up for free recycling\, energy audits and street trees. It’s simple and makes a huge difference for people and the planet. \n  \nTo RSVP for this project please contact Volunteer Coordinator Dele Johnson dele@groundworkcolorado.org OR 303-455-5600 ext 209.    \n  \n“Not everybody can be famous\, but everybody can be great\, because greatness is determined by service…”  \n– Martin Luther King\, Jr.
URL:https://groundworkcolorado.org/event/2015-mlk-day-of-service-neighborhood-energy-outreach/
LOCATION:Unnamed Venue\, CO\, 80239\, United States
ORGANIZER;CN="Dele Johnson":MAILTO:dele@groundworkcolorado.org
END:VEVENT
END:VCALENDAR